BEGIN:VCALENDAR
VERSION:2.0
PRODID:-//Island Prostate Centre - ECPv6.15.17.1//NONSGML v1.0//EN
CALSCALE:GREGORIAN
METHOD:PUBLISH
X-WR-CALNAME:Island Prostate Centre
X-ORIGINAL-URL:https://islandprostatecentre.com
X-WR-CALDESC:Events for Island Prostate Centre
REFRESH-INTERVAL;VALUE=DURATION:PT1H
X-Robots-Tag:noindex
X-PUBLISHED-TTL:PT1H
BEGIN:VTIMEZONE
TZID:America/Vancouver
BEGIN:DAYLIGHT
TZOFFSETFROM:-0800
TZOFFSETTO:-0700
TZNAME:PDT
DTSTART:20220313T100000
END:DAYLIGHT
BEGIN:STANDARD
TZOFFSETFROM:-0700
TZOFFSETTO:-0800
TZNAME:PST
DTSTART:20221106T090000
END:STANDARD
BEGIN:DAYLIGHT
TZOFFSETFROM:-0800
TZOFFSETTO:-0700
TZNAME:PDT
DTSTART:20230312T100000
END:DAYLIGHT
BEGIN:STANDARD
TZOFFSETFROM:-0700
TZOFFSETTO:-0800
TZNAME:PST
DTSTART:20231105T090000
END:STANDARD
BEGIN:DAYLIGHT
TZOFFSETFROM:-0800
TZOFFSETTO:-0700
TZNAME:PDT
DTSTART:20240310T100000
END:DAYLIGHT
BEGIN:STANDARD
TZOFFSETFROM:-0700
TZOFFSETTO:-0800
TZNAME:PST
DTSTART:20241103T090000
END:STANDARD
BEGIN:DAYLIGHT
TZOFFSETFROM:-0800
TZOFFSETTO:-0700
TZNAME:PDT
DTSTART:20250309T100000
END:DAYLIGHT
BEGIN:STANDARD
TZOFFSETFROM:-0700
TZOFFSETTO:-0800
TZNAME:PST
DTSTART:20251102T090000
END:STANDARD
END:VTIMEZONE
BEGIN:VEVENT
DTSTART;TZID=America/Vancouver:20231127T090000
DTEND;TZID=America/Vancouver:20231127T100000
DTSTAMP:20260423T045438
CREATED:20231020T182937Z
LAST-MODIFIED:20231020T182937Z
UID:8099-1701075600-1701079200@islandprostatecentre.com
SUMMARY:Cancer Recovery Exercise Program
DESCRIPTION:Reclaim your health. The Cancer Recovery Exercise Program is a step can take right now to regain control of your life and wellbeing. Guided by certified athletic and cancer exercise therapists\, this group class is tailored to your needs\, whether you’re receiving treatment or a cancer survivor. Classes are held virtually\, via Zoom on Mondays and Thursdays from 9am to 10am. Please register via email at coordinator@islandprostatecentre.com 
URL:https://islandprostatecentre.com/event/cancer-recovery-exercise-program-378/
LOCATION:via Zoom
CATEGORIES:Programs
END:VEVENT
BEGIN:VEVENT
DTSTART;TZID=America/Vancouver:20231128T100000
DTEND;TZID=America/Vancouver:20231128T110000
DTSTAMP:20260423T045438
CREATED:20231020T180931Z
LAST-MODIFIED:20231020T180931Z
UID:8083-1701165600-1701169200@islandprostatecentre.com
SUMMARY:Prostate Walking Group
DESCRIPTION:Led by volunteers\, this is your chance to better your fitness and have the kinds of conversations that can only happen in a casual setting with those who have walked in your shoes. Explore a variety of routes and trails in good company. Walking group meets on Tuesdays at 10am and Thursdays at 11am. New routes weekly. Walking routes will be updated weekly.
URL:https://islandprostatecentre.com/event/prostate-walking-group-339/
CATEGORIES:Programs
END:VEVENT
BEGIN:VEVENT
DTSTART;TZID=America/Vancouver:20231130T090000
DTEND;TZID=America/Vancouver:20231130T100000
DTSTAMP:20260423T045438
CREATED:20231020T183209Z
LAST-MODIFIED:20231020T183209Z
UID:8101-1701334800-1701338400@islandprostatecentre.com
SUMMARY:Cancer Recovery Exercise Program
DESCRIPTION:Reclaim your health. The Cancer Recovery Exercise Program is a step can take right now to regain control of your life and wellbeing. Guided by certified athletic and cancer exercise therapists\, this group class is tailored to your needs\, whether you’re receiving treatment or a cancer survivor. Classes are held virtually\, via Zoom on Mondays and Thursdays from 9am to 10am. Please register via email at coordinator@islandprostatecentre.com 
URL:https://islandprostatecentre.com/event/cancer-recovery-exercise-program-379/
LOCATION:via Zoom
CATEGORIES:Programs
END:VEVENT
BEGIN:VEVENT
DTSTART;TZID=America/Vancouver:20231130T110000
DTEND;TZID=America/Vancouver:20231130T120000
DTSTAMP:20260423T045438
CREATED:20231020T181008Z
LAST-MODIFIED:20231020T181008Z
UID:8085-1701342000-1701345600@islandprostatecentre.com
SUMMARY:Prostate Walking Group
DESCRIPTION:Led by volunteers\, this is your chance to better your fitness and have the kinds of conversations that can only happen in a casual setting with those who have walked in your shoes. Explore a variety of routes and trails in good company. Walking group meets on Tuesdays at 10am and Thursdays at 11am. New routes weekly. Walking routes will be updated weekly.
URL:https://islandprostatecentre.com/event/prostate-walking-group-340/
CATEGORIES:Programs
END:VEVENT
BEGIN:VEVENT
DTSTART;TZID=America/Vancouver:20240115T180000
DTEND;TZID=America/Vancouver:20240115T180000
DTSTAMP:20260423T045438
CREATED:20240108T225606Z
LAST-MODIFIED:20240108T225620Z
UID:8125-1705341600-1705341600@islandprostatecentre.com
SUMMARY:Group Exercise and Education for Better Bladder Control
DESCRIPTION:
URL:https://islandprostatecentre.com/event/group-exercise-and-education-for-better-bladder-control/
LOCATION:Saanich Commonwealth Place – Dogwood Room\, 4636 Elk Lake Dr\, Victoria\, BC\, V8Z 5M1\, Canada
CATEGORIES:Programs
END:VEVENT
END:VCALENDAR